BEGIN:VCALENDAR
VERSION:2.0
PRODID:-//CUPE 3903 - ECPv6.15.17//NONSGML v1.0//EN
CALSCALE:GREGORIAN
METHOD:PUBLISH
X-ORIGINAL-URL:https://cupe3903.org
X-WR-CALDESC:Events for CUPE 3903
REFRESH-INTERVAL;VALUE=DURATION:PT1H
X-Robots-Tag:noindex
X-PUBLISHED-TTL:PT1H
BEGIN:VTIMEZONE
TZID:America/Toronto
BEGIN:DAYLIGHT
TZOFFSETFROM:-0500
TZOFFSETTO:-0400
TZNAME:EDT
DTSTART:20250309T070000
END:DAYLIGHT
BEGIN:STANDARD
TZOFFSETFROM:-0400
TZOFFSETTO:-0500
TZNAME:EST
DTSTART:20251102T060000
END:STANDARD
BEGIN:DAYLIGHT
TZOFFSETFROM:-0500
TZOFFSETTO:-0400
TZNAME:EDT
DTSTART:20260308T070000
END:DAYLIGHT
BEGIN:STANDARD
TZOFFSETFROM:-0400
TZOFFSETTO:-0500
TZNAME:EST
DTSTART:20261101T060000
END:STANDARD
BEGIN:DAYLIGHT
TZOFFSETFROM:-0500
TZOFFSETTO:-0400
TZNAME:EDT
DTSTART:20270314T070000
END:DAYLIGHT
BEGIN:STANDARD
TZOFFSETFROM:-0400
TZOFFSETTO:-0500
TZNAME:EST
DTSTART:20271107T060000
END:STANDARD
END:VTIMEZONE
BEGIN:VEVENT
DTSTART;TZID=America/Toronto:20260115T130000
DTEND;TZID=America/Toronto:20260115T160000
DTSTAMP:20260423T083054
CREATED:20251215T095807Z
LAST-MODIFIED:20260115T180203Z
UID:17603-1768482000-1768492800@cupe3903.org
SUMMARY:Executive Committee Meeting
DESCRIPTION:The Executive Committee is holding a meeting. All members are welcome to attend. Only executive committee members can vote. This meeting will be on Zoom due to weather. \n\nThe Zoom link is available here. The agenda is available at this link. \nPlease contact Zoë Newman\, Chairperson\, at chairperson@cupe3903.org for any accessibility requests.
URL:https://cupe3903.org/event/exec-jan-15/
LOCATION:CUPE 3903 Office (143 Atkinson)\, 96 The Pond Road\, North York\, ON\, M3J 2S5\, Canada
END:VEVENT
BEGIN:VEVENT
DTSTART;TZID=America/Toronto:20260116T110000
DTEND;TZID=America/Toronto:20260116T140000
DTSTAMP:20260423T083054
CREATED:20251118T041331Z
LAST-MODIFIED:20260116T144729Z
UID:17539-1768561200-1768572000@cupe3903.org
SUMMARY:January General Membership Meeting
DESCRIPTION:Notice: Due to inclement weather\, this GMM has been moved to virtual-only. Thank you for understanding\, and stay warm + safe! \nWe are hosting a General Membership Meeting on January 16th from 11AM – 2PM! All members are encouraged to attend. \nTo register for the meeting\, click this link. Please register in advance! Make sure to register at the link even if you’re attending in-person so that we can better estimate numbers and you can receive voting ballots via email. \nThe agenda is linked here. \nIn order to register\, you will need to provide your employee number\, which will be kept confidential. Your employee number is on your monthly pay stub. If you don’t know your employee number\, please click here for instructions. \nIf you require any of the following: ASL interpretation\, reimbursement for childcare/caregiver/attendant care\, or other requests for accommodation\, please contact our Staff Representative Equity\, Nadia Kanani\, at equity@cupe3903.org.
URL:https://cupe3903.org/event/gmm-jan/
LOCATION:ON
END:VEVENT
BEGIN:VEVENT
DTSTART;TZID=America/Toronto:20260120T103000
DTEND;TZID=America/Toronto:20260120T123000
DTSTAMP:20260423T083054
CREATED:20251217T151131Z
LAST-MODIFIED:20251217T151137Z
UID:17609-1768905000-1768912200@cupe3903.org
SUMMARY:January Stewards' Council
DESCRIPTION:The next Stewards’ Council meeting will be on January 20 at 10:30AM-12:30PM. It is open to all members\, and stewards are especially encouraged to attend. \nThe meeting will by hybrid\, on Zoom at this link and in-person in the CUPE 3903 Office at 143 Atkinson. \nYou can find the agenda here. This meeting will include important discussions of mobilizing our departments and hiring units as we look forward to bargaining! \nQuestions? Contact a Lead Steward!
URL:https://cupe3903.org/event/sc-jan-20/
LOCATION:CUPE 3903 Office (143 Atkinson)\, 96 The Pond Road\, North York\, ON\, M3J 2S5\, Canada
END:VEVENT
BEGIN:VEVENT
DTSTART;TZID=America/Toronto:20260121T130000
DTEND;TZID=America/Toronto:20260121T170000
DTSTAMP:20260423T083054
CREATED:20260116T033348Z
LAST-MODIFIED:20260326T030825Z
UID:17641-1769000400-1769014800@cupe3903.org
SUMMARY:BIPOC Caucus: Carefull Crafting
DESCRIPTION:Join the BIPOC Caucus for a biweekly afternoon of crafts and conversation. Supplies will be provided or you can bring your own projects. All are welcome.\n\nQuestions? Contact the BIPOC Caucus Chair\, Keisha Bell\, at bipoc@cupe3903.org
URL:https://cupe3903.org/event/carefull-crafting-jan-21/
LOCATION:124 Atkinson\, 96 The Pond Road\, North York\, Ontario\, M3J 2S5\, Canada
END:VEVENT
BEGIN:VEVENT
DTSTART;TZID=America/Toronto:20260121T133000
DTEND;TZID=America/Toronto:20260121T153000
DTSTAMP:20260423T083054
CREATED:20260110T003916Z
LAST-MODIFIED:20260110T003949Z
UID:17632-1769002200-1769009400@cupe3903.org
SUMMARY:January TFAC Meeting
DESCRIPTION:The Trans Feminist Action Caucus‘ first meeting of 2026 is happening on Wednesday\, January 21st at 1:30 PM! It’s hybrid\, so you can join on Zoom or in-person at the CUPE office in 143 Atkinson. \nTFAC includes all women\, trans\, genderqueer\, and gender variant members of 3903! If you’re part of those groups\, we want you there! For TFAC questions\, contact Océane Nyela at tfac1@cupe3903.org and/or Orçun Turan at tfac2@cupe3903.org. \nClick here to join the meeting virtually via Zoom!
URL:https://cupe3903.org/event/tfac-jan/
LOCATION:CUPE 3903 Office (143 Atkinson)\, 96 The Pond Road\, North York\, ON\, M3J 2S5\, Canada
END:VEVENT
BEGIN:VEVENT
DTSTART;TZID=America/Toronto:20260123T140000
DTEND;TZID=America/Toronto:20260123T170000
DTSTAMP:20260423T083054
CREATED:20251228T203651Z
LAST-MODIFIED:20260124T153057Z
UID:17617-1769176800-1769187600@cupe3903.org
SUMMARY:Disability Caucus: Meet & Greet!
DESCRIPTION:Join the CUPE 3903 Disability Caucus for a casual\, fun-filled meet and greet! Enjoy some light snacks\, as well as colouring and quiet games with us as we celebrate the beginnings of a new Disability Caucus. \nDrop in any time between 2-5 PM on Friday\, January 23rd in the CUPE 3903 Office (143 Atkinson)\, where you can connect with other Disability Caucus members. This hybrid\, accessible event will feature online activities on Zoom as well (at this link)\, for those who would rather join us virtually. This meet and greet is your space to ask questions and give suggestions about how you’d like to see the Disability Caucus develop\, plus blow off some steam at the end of the week! \nFollowing section 5D of the bylaws\, the Disability Caucus (and this event) aims to include specifically any self-identified disabled members of CUPE 3903. This event will be mask-mandatory for in-person attendees\, held in a wheelchair accessible space. \nPlease fill out the RSVP form linked here so that you can let us know you’re coming\, make sure we have adequate space\, and know how we can better accommodate your needs! \nAny questions or accessibility concerns? Contact access3903@gmail.com
URL:https://cupe3903.org/event/disability-caucus-meet-greet/
LOCATION:CUPE 3903 Office (143 Atkinson)\, 96 The Pond Road\, North York\, ON\, M3J 2S5\, Canada
END:VEVENT
BEGIN:VEVENT
DTSTART;TZID=America/Toronto:20260129T130000
DTEND;TZID=America/Toronto:20260129T160000
DTSTAMP:20260423T083054
CREATED:20251215T095937Z
LAST-MODIFIED:20260124T152347Z
UID:17604-1769691600-1769702400@cupe3903.org
SUMMARY:Executive Committee Meeting
DESCRIPTION:The Executive Committee is holding a meeting. All members are welcome to attend. Only executive committee members can vote. This meeting will be hybrid\, with the in-person space being the board room of the CUPE 3903 office (Atkinson 143). \n\nThe Zoom link is available here. The agenda is available at this link. \nPlease contact Zoë Newman\, Chairperson\, at chairperson@cupe3903.org for any accessibility requests.
URL:https://cupe3903.org/event/exec-jan-29/
LOCATION:CUPE 3903 Office (143 Atkinson)\, 96 The Pond Road\, North York\, ON\, M3J 2S5\, Canada
CATEGORIES:Executive Committee
END:VEVENT
BEGIN:VEVENT
DTSTART;TZID=America/Toronto:20260130T110000
DTEND;TZID=America/Toronto:20260130T130000
DTSTAMP:20260423T083054
CREATED:20260124T151827Z
LAST-MODIFIED:20260203T200738Z
UID:17672-1769770800-1769778000@cupe3903.org
SUMMARY:Units 1\, 2\, & 3: Bargaining Team Meeting
DESCRIPTION:A virtual meeting of the Units 1\, 2\, & 3 Bargaining Team. All CUPE 3903 members are welcome! \n  \nA Zoom link to join the meeting was made available. For access to the agenda or any questions\, please email bargaining@cupe3903.org.
URL:https://cupe3903.org/event/bt-jan-30/
LOCATION:ON
END:VEVENT
END:VCALENDAR