BEGIN:VCALENDAR
VERSION:2.0
PRODID:-//CUPE 3903 - ECPv6.15.17//NONSGML v1.0//EN
CALSCALE:GREGORIAN
METHOD:PUBLISH
X-WR-CALNAME:CUPE 3903
X-ORIGINAL-URL:https://cupe3903.org
X-WR-CALDESC:Events for CUPE 3903
REFRESH-INTERVAL;VALUE=DURATION:PT1H
X-Robots-Tag:noindex
X-PUBLISHED-TTL:PT1H
BEGIN:VTIMEZONE
TZID:America/Toronto
BEGIN:DAYLIGHT
TZOFFSETFROM:-0500
TZOFFSETTO:-0400
TZNAME:EDT
DTSTART:20250309T070000
END:DAYLIGHT
BEGIN:STANDARD
TZOFFSETFROM:-0400
TZOFFSETTO:-0500
TZNAME:EST
DTSTART:20251102T060000
END:STANDARD
BEGIN:DAYLIGHT
TZOFFSETFROM:-0500
TZOFFSETTO:-0400
TZNAME:EDT
DTSTART:20260308T070000
END:DAYLIGHT
BEGIN:STANDARD
TZOFFSETFROM:-0400
TZOFFSETTO:-0500
TZNAME:EST
DTSTART:20261101T060000
END:STANDARD
BEGIN:DAYLIGHT
TZOFFSETFROM:-0500
TZOFFSETTO:-0400
TZNAME:EDT
DTSTART:20270314T070000
END:DAYLIGHT
BEGIN:STANDARD
TZOFFSETFROM:-0400
TZOFFSETTO:-0500
TZNAME:EST
DTSTART:20271107T060000
END:STANDARD
END:VTIMEZONE
BEGIN:VEVENT
DTSTART;TZID=America/Toronto:20260423T130000
DTEND;TZID=America/Toronto:20260423T160000
DTSTAMP:20260423T063938
CREATED:20260331T005915Z
LAST-MODIFIED:20260418T195112Z
UID:17861-1776949200-1776960000@cupe3903.org
SUMMARY:April General Membership Meeting
DESCRIPTION:We are hosting a hybrid General Membership Meeting (GMM) on April 23 from 1PM – 4PM! All members are encouraged to attend. The in-person location will be the CUPE 3903 Office (143 Atkinson). \n\n\n\nTo register for the meeting\, click this link. Please register in advance! \n\n\n\nMake sure to register at the link even if you’re attending in-person so that we can better estimate numbers and you can receive voting ballots via email. The GMM agenda is available here. \n\n\n\nNow is a great chance to think about nominating yourself for a committee or a Bargaining Team position! Committee by-elections will take place at the April GMM\, and BT by-election nominations will open at the April GMM. \n\n\n\nTo register\, you will need to provide your employee number\, which will be kept confidential. Your employee number is on your monthly pay stub. If you don’t know your employee number\, please click here for instructions. \n\n\n\nIf you require any of the following: ASL interpretation\, reimbursement for childcare/caregiver/attendant care\, or other requests for accommodation\, please contact our Staff Representative Equity\, Nadia Kanani\, at equity@cupe3903.org.
URL:https://cupe3903.org/event/april-2026-gmm/
LOCATION:CUPE 3903 Office (143 Atkinson)\, 96 The Pond Road\, North York\, ON\, M3J 2S5\, Canada
END:VEVENT
END:VCALENDAR