BEGIN:VCALENDAR
VERSION:2.0
PRODID:-//CUPE 3903 - ECPv6.15.17//NONSGML v1.0//EN
CALSCALE:GREGORIAN
METHOD:PUBLISH
X-ORIGINAL-URL:https://cupe3903.org
X-WR-CALDESC:Events for CUPE 3903
REFRESH-INTERVAL;VALUE=DURATION:PT1H
X-Robots-Tag:noindex
X-PUBLISHED-TTL:PT1H
BEGIN:VTIMEZONE
TZID:America/Toronto
BEGIN:DAYLIGHT
TZOFFSETFROM:-0500
TZOFFSETTO:-0400
TZNAME:EDT
DTSTART:20240310T070000
END:DAYLIGHT
BEGIN:STANDARD
TZOFFSETFROM:-0400
TZOFFSETTO:-0500
TZNAME:EST
DTSTART:20241103T060000
END:STANDARD
BEGIN:DAYLIGHT
TZOFFSETFROM:-0500
TZOFFSETTO:-0400
TZNAME:EDT
DTSTART:20250309T070000
END:DAYLIGHT
BEGIN:STANDARD
TZOFFSETFROM:-0400
TZOFFSETTO:-0500
TZNAME:EST
DTSTART:20251102T060000
END:STANDARD
BEGIN:DAYLIGHT
TZOFFSETFROM:-0500
TZOFFSETTO:-0400
TZNAME:EDT
DTSTART:20260308T070000
END:DAYLIGHT
BEGIN:STANDARD
TZOFFSETFROM:-0400
TZOFFSETTO:-0500
TZNAME:EST
DTSTART:20261101T060000
END:STANDARD
END:VTIMEZONE
BEGIN:VEVENT
DTSTART;TZID=America/Toronto:20251118T103000
DTEND;TZID=America/Toronto:20251118T123000
DTSTAMP:20260419T164546
CREATED:20251116T185858Z
LAST-MODIFIED:20251116T185858Z
UID:17524-1763461800-1763469000@cupe3903.org
SUMMARY:November Stewards' Council
DESCRIPTION:The next Stewards’ Council will be on November 18th at 10:30AM-12:30PM. It is open to all members\, and stewards are especially encouraged to attend. The meeting will by hybrid\, on Zoom at this link and in-person in the CUPE 3903 Office at 143 Atkinson. \nQuestions? Contact Prateeksha Pathak\, Lead Steward Unit 1\, at lsu1@cupe3903.org or Neil Braganza\, Lead Steward Unit 2\, at lsu2@cupe3903.org.
URL:https://cupe3903.org/event/sc-nov-18/
LOCATION:CUPE 3903 Office (143 Atkinson)\, 96 The Pond Road\, North York\, ON\, M3J 2S5\, Canada
END:VEVENT
BEGIN:VEVENT
DTSTART;TZID=America/Toronto:20251118T130000
DTEND;TZID=America/Toronto:20251118T150000
DTSTAMP:20260419T164546
CREATED:20251117T183657Z
LAST-MODIFIED:20251117T183657Z
UID:17536-1763470800-1763478000@cupe3903.org
SUMMARY:Unit 5 Bargaining Prep
DESCRIPTION:A preparatory session for the Unit 5 Bargaining Team.
URL:https://cupe3903.org/event/u5-prep-nov-18/
END:VEVENT
END:VCALENDAR