BEGIN:VCALENDAR
VERSION:2.0
PRODID:-//CUPE 3903 - ECPv6.15.17//NONSGML v1.0//EN
CALSCALE:GREGORIAN
METHOD:PUBLISH
X-WR-CALNAME:CUPE 3903
X-ORIGINAL-URL:https://cupe3903.org
X-WR-CALDESC:Events for CUPE 3903
REFRESH-INTERVAL;VALUE=DURATION:PT1H
X-Robots-Tag:noindex
X-PUBLISHED-TTL:PT1H
BEGIN:VTIMEZONE
TZID:America/Toronto
BEGIN:DAYLIGHT
TZOFFSETFROM:-0500
TZOFFSETTO:-0400
TZNAME:EDT
DTSTART:20240310T070000
END:DAYLIGHT
BEGIN:STANDARD
TZOFFSETFROM:-0400
TZOFFSETTO:-0500
TZNAME:EST
DTSTART:20241103T060000
END:STANDARD
BEGIN:DAYLIGHT
TZOFFSETFROM:-0500
TZOFFSETTO:-0400
TZNAME:EDT
DTSTART:20250309T070000
END:DAYLIGHT
BEGIN:STANDARD
TZOFFSETFROM:-0400
TZOFFSETTO:-0500
TZNAME:EST
DTSTART:20251102T060000
END:STANDARD
BEGIN:DAYLIGHT
TZOFFSETFROM:-0500
TZOFFSETTO:-0400
TZNAME:EDT
DTSTART:20260308T070000
END:DAYLIGHT
BEGIN:STANDARD
TZOFFSETFROM:-0400
TZOFFSETTO:-0500
TZNAME:EST
DTSTART:20261101T060000
END:STANDARD
END:VTIMEZONE
BEGIN:VEVENT
DTSTART;TZID=America/Toronto:20251023T130000
DTEND;TZID=America/Toronto:20251023T170000
DTSTAMP:20260423T104533
CREATED:20251007T184008Z
LAST-MODIFIED:20251007T184008Z
UID:17448-1761224400-1761238800@cupe3903.org
SUMMARY:Unit 5 Bargaining
DESCRIPTION:This will be a session of Unit 5 bargaining with the Employer. Unit 5 is our newest unit in CUPE 3903\, representing workers at the Canadian Observatory on Homelessness! \n  \nDo you have questions\, supportive words\, or want to know more about Unit 5 bargaining? Send an email to Mackenzie Edwards\, Communications Officer\, at communications@cupe3903.org!
URL:https://cupe3903.org/event/u5-oct-23/
LOCATION:ON
END:VEVENT
BEGIN:VEVENT
DTSTART;TZID=America/Toronto:20251023T140000
DTEND;TZID=America/Toronto:20251023T160000
DTSTAMP:20260423T104533
CREATED:20251005T234329Z
LAST-MODIFIED:20251005T234459Z
UID:17441-1761228000-1761235200@cupe3903.org
SUMMARY:Board Game Social!
DESCRIPTION:Come play board games with fellow CUPE 3903 members! \nJoin us in the CUPE 3903 Office (143 Atkinson) on October 23rd from 2-4PM. This is your chance to make friends\, de-stress\, and have fun. More details coming soon!
URL:https://cupe3903.org/event/board-game-social/
LOCATION:CUPE 3903 Office (143 Atkinson)\, 96 The Pond Road\, North York\, ON\, M3J 2S5\, Canada
END:VEVENT
END:VCALENDAR