BEGIN:VCALENDAR
VERSION:2.0
PRODID:-//CUPE 3903 - ECPv6.15.17//NONSGML v1.0//EN
CALSCALE:GREGORIAN
METHOD:PUBLISH
X-WR-CALNAME:CUPE 3903
X-ORIGINAL-URL:https://cupe3903.org
X-WR-CALDESC:Events for CUPE 3903
REFRESH-INTERVAL;VALUE=DURATION:PT1H
X-Robots-Tag:noindex
X-PUBLISHED-TTL:PT1H
BEGIN:VTIMEZONE
TZID:America/Toronto
BEGIN:DAYLIGHT
TZOFFSETFROM:-0500
TZOFFSETTO:-0400
TZNAME:EDT
DTSTART:20240310T070000
END:DAYLIGHT
BEGIN:STANDARD
TZOFFSETFROM:-0400
TZOFFSETTO:-0500
TZNAME:EST
DTSTART:20241103T060000
END:STANDARD
BEGIN:DAYLIGHT
TZOFFSETFROM:-0500
TZOFFSETTO:-0400
TZNAME:EDT
DTSTART:20250309T070000
END:DAYLIGHT
BEGIN:STANDARD
TZOFFSETFROM:-0400
TZOFFSETTO:-0500
TZNAME:EST
DTSTART:20251102T060000
END:STANDARD
BEGIN:DAYLIGHT
TZOFFSETFROM:-0500
TZOFFSETTO:-0400
TZNAME:EDT
DTSTART:20260308T070000
END:DAYLIGHT
BEGIN:STANDARD
TZOFFSETFROM:-0400
TZOFFSETTO:-0500
TZNAME:EST
DTSTART:20261101T060000
END:STANDARD
END:VTIMEZONE
BEGIN:VEVENT
DTSTART;TZID=America/Toronto:20251015T143000
DTEND;TZID=America/Toronto:20251015T153000
DTSTAMP:20260419T145813
CREATED:20250913T222646Z
LAST-MODIFIED:20250913T222657Z
UID:17393-1760538600-1760542200@cupe3903.org
SUMMARY:Unit 2 Stewards' Council
DESCRIPTION:Unit 2 members are warmly invited to biweekly meetings at which we can discuss our issues and how to build a better workplace for all at York. No registration required. If you are a member of other units and are interested in unit 2 issues\, you are most welcome to join us too! \n  \nWHEN: Wednesday\, October 15th\, 2:30pm-3:30pm \nZOOM: https://us02web.zoom.us/j/82044477717?pwd=BLmXbKmOWc55iHWPSFRTLIQaCF9vOh.1 \nMeetings continue every two weeks as follows: \n\nOct 1\, 2:30pm-3:30pm\nOct 15\, 2:30pm-3:30pm\nOct 29\, 2:30pm-3:30pm\nNov 12\, 2:30pm-3:30pm\nNov 26\, 2:30pm-3:30pm\nDec 10\, 2:30pm-3:30pm\n\nDiscussion topics might include: \n\nHiring (is the employer following the CA on postings\, NRAs\, sending contracts\, etc?)\nWhat discussions are taking place in departments\, Faculty Councils and Senate?\nWhat union campaigns and events are we building?\nHow can we prepare for bargaining in 2026?\nHow do we build unit 2 community?\n\nFor more information please contact Neil Braganza\, Lead Steward Unit 2\, at lsu2@cupe3903.org.
URL:https://cupe3903.org/event/u2-sc-oct-15/
END:VEVENT
END:VCALENDAR