BEGIN:VCALENDAR
VERSION:2.0
PRODID:-//CUPE 3903 - ECPv6.15.17//NONSGML v1.0//EN
CALSCALE:GREGORIAN
METHOD:PUBLISH
X-WR-CALNAME:CUPE 3903
X-ORIGINAL-URL:https://cupe3903.org
X-WR-CALDESC:Events for CUPE 3903
REFRESH-INTERVAL;VALUE=DURATION:PT1H
X-Robots-Tag:noindex
X-PUBLISHED-TTL:PT1H
BEGIN:VTIMEZONE
TZID:America/Toronto
BEGIN:DAYLIGHT
TZOFFSETFROM:-0500
TZOFFSETTO:-0400
TZNAME:EDT
DTSTART:20240310T070000
END:DAYLIGHT
BEGIN:STANDARD
TZOFFSETFROM:-0400
TZOFFSETTO:-0500
TZNAME:EST
DTSTART:20241103T060000
END:STANDARD
BEGIN:DAYLIGHT
TZOFFSETFROM:-0500
TZOFFSETTO:-0400
TZNAME:EDT
DTSTART:20250309T070000
END:DAYLIGHT
BEGIN:STANDARD
TZOFFSETFROM:-0400
TZOFFSETTO:-0500
TZNAME:EST
DTSTART:20251102T060000
END:STANDARD
BEGIN:DAYLIGHT
TZOFFSETFROM:-0500
TZOFFSETTO:-0400
TZNAME:EDT
DTSTART:20260308T070000
END:DAYLIGHT
BEGIN:STANDARD
TZOFFSETFROM:-0400
TZOFFSETTO:-0500
TZNAME:EST
DTSTART:20261101T060000
END:STANDARD
END:VTIMEZONE
BEGIN:VEVENT
DTSTART;VALUE=DATE:20250922
DTEND;VALUE=DATE:20251004
DTSTAMP:20260419T113729
CREATED:20250901T005851Z
LAST-MODIFIED:20250923T235437Z
UID:17357-1758499200-1759535999@cupe3903.org
SUMMARY:A Union for Academics???: 50 Years of CUPE 3903
DESCRIPTION:In fall 1975\, the York University GAA won their case before the Ontario Labour Relations Board\, allowing for the certification of the third union representing “part-time” academics in Canada. \nTwo name changes\, three new units\, seven strikes\, thirty collective agreements\, and one new affiliation later\, CUPE 3903 marks its 50th Anniversary with a public exhibition of archival records\, artefacts\, and memories! \nOrganized by the Archive Committee and eager volunteers\, “A Union for Academics???: Fifty Years of CUPE 3903” will run from September 22 – October 3 at the Eleanor Winters Art Gallery (129 Winters College\, Keele Campus). \nVisitors are invited to imagine a different history of York University and a broader academic labour movement. \nThe exhibition is open weekdays (not weekends!)\, from 10AM-4PM. Admission is free\, and pictures are welcome! See you there.
URL:https://cupe3903.org/event/a-union-for-academics/
LOCATION:Eleanor Winters Art Gallery\, 129 Winters College\, 72 Winters Lane\, North York\, Ontario\, 7A 2C5\, Canada
CATEGORIES:Archive Committee
END:VEVENT
BEGIN:VEVENT
DTSTART;TZID=America/Toronto:20251002T100000
DTEND;TZID=America/Toronto:20251002T120000
DTSTAMP:20260419T113729
CREATED:20250930T194309Z
LAST-MODIFIED:20250930T194309Z
UID:17430-1759399200-1759406400@cupe3903.org
SUMMARY:U5 Bargaining Prep!
DESCRIPTION:A preparatory session for the Unit 5 Bargaining Team.
URL:https://cupe3903.org/event/u5-prep-oct-2/
END:VEVENT
BEGIN:VEVENT
DTSTART;TZID=America/Toronto:20251002T153000
DTEND;TZID=America/Toronto:20251002T173000
DTSTAMP:20260419T113729
CREATED:20250929T022227Z
LAST-MODIFIED:20250929T053426Z
UID:17421-1759419000-1759426200@cupe3903.org
SUMMARY:Reception for "A Union for Academics???: 50 Years of CUPE 3903"
DESCRIPTION:You’re invited to a reception and exhibition tour for “A Union for Academics???: 50 Years of CUPE 3903\,” a free\, member-organized exhibition! Light refreshments will be served.\n\n\nWhere: Eleanor Winters Gallery (129 Winters College\, York University\, Keele Campus)\nWhen: Thursday\, October 2\, 3:30 to 5:30pm\n\n\nFor any questions\, contact Zoë Newman\, Chairperson\, at chairperson@cupe3903.org
URL:https://cupe3903.org/event/exhibition-reception/
LOCATION:Eleanor Winters Art Gallery\, 129 Winters College\, 72 Winters Lane\, North York\, Ontario\, 7A 2C5\, Canada
END:VEVENT
END:VCALENDAR