BEGIN:VCALENDAR
VERSION:2.0
PRODID:-//CUPE 3903 - ECPv6.15.17//NONSGML v1.0//EN
CALSCALE:GREGORIAN
METHOD:PUBLISH
X-ORIGINAL-URL:https://cupe3903.org
X-WR-CALDESC:Events for CUPE 3903
REFRESH-INTERVAL;VALUE=DURATION:PT1H
X-Robots-Tag:noindex
X-PUBLISHED-TTL:PT1H
BEGIN:VTIMEZONE
TZID:America/Toronto
BEGIN:DAYLIGHT
TZOFFSETFROM:-0500
TZOFFSETTO:-0400
TZNAME:EDT
DTSTART:20240310T070000
END:DAYLIGHT
BEGIN:STANDARD
TZOFFSETFROM:-0400
TZOFFSETTO:-0500
TZNAME:EST
DTSTART:20241103T060000
END:STANDARD
BEGIN:DAYLIGHT
TZOFFSETFROM:-0500
TZOFFSETTO:-0400
TZNAME:EDT
DTSTART:20250309T070000
END:DAYLIGHT
BEGIN:STANDARD
TZOFFSETFROM:-0400
TZOFFSETTO:-0500
TZNAME:EST
DTSTART:20251102T060000
END:STANDARD
BEGIN:DAYLIGHT
TZOFFSETFROM:-0500
TZOFFSETTO:-0400
TZNAME:EDT
DTSTART:20260308T070000
END:DAYLIGHT
BEGIN:STANDARD
TZOFFSETFROM:-0400
TZOFFSETTO:-0500
TZNAME:EST
DTSTART:20261101T060000
END:STANDARD
END:VTIMEZONE
BEGIN:VEVENT
DTSTART;TZID=America/Toronto:20250920T140000
DTEND;TZID=America/Toronto:20250920T170000
DTSTAMP:20260423T083145
CREATED:20250901T022255Z
LAST-MODIFIED:20250908T090608Z
UID:17361-1758376800-1758387600@cupe3903.org
SUMMARY:Draw the Line
DESCRIPTION:Endorsed by CUPE 3903! RSVP\, and contact Joseph Tohill\, Vice-President Unit 2\, at vpu2@cupe3903.org to coordinate attending Toronto’s Draw the Line rally on September 20th with other members. \nJOIN US! SEPTEMBER 20TH: \n\n2PM Rally & March (Yonge-Dundas)\n4PM Speakers & Music (Queen’s Park)\n\n  \nFrom Draw the Line: \n“We refuse to stand by while the government and Canada’s richest corporations hoard wealth\, gut our public services\, fuel climate collapse\, attack migrants\, exploit Indigenous lands\, and prop up a genocide in Palestine. They think that if they can overwhelm and divide us\, we won’t fight back. But climate justice\, migrant justice\, economic justice\, Indigenous rights\, and anti-war movements are uniting to prove them wrong. \nOn Saturday\, September 20th\, we’re drawing the line— for People. For Peace. For the Planet. \nFrom rallies to strikes\, marches to gatherings\, this September 20th\, communities will mobilize across the country and demand that Prime Minister Carney and the Canadian government pick a side: injustice\, violence\, and climate destruction— or a just and safe future for all of us. \nThis world is ours to build. This is our line to draw.”
URL:https://cupe3903.org/event/draw-the-line/
LOCATION:Yonge-Dundas\, 1 Dundas St E\, Toronto\, Ontario\, M5B 2R8\, Canada
END:VEVENT
END:VCALENDAR