BEGIN:VCALENDAR
VERSION:2.0
PRODID:-//CUPE 3903 - ECPv6.15.17//NONSGML v1.0//EN
CALSCALE:GREGORIAN
METHOD:PUBLISH
X-ORIGINAL-URL:https://cupe3903.org
X-WR-CALDESC:Events for CUPE 3903
REFRESH-INTERVAL;VALUE=DURATION:PT1H
X-Robots-Tag:noindex
X-PUBLISHED-TTL:PT1H
BEGIN:VTIMEZONE
TZID:America/Toronto
BEGIN:DAYLIGHT
TZOFFSETFROM:-0500
TZOFFSETTO:-0400
TZNAME:EDT
DTSTART:20240310T070000
END:DAYLIGHT
BEGIN:STANDARD
TZOFFSETFROM:-0400
TZOFFSETTO:-0500
TZNAME:EST
DTSTART:20241103T060000
END:STANDARD
BEGIN:DAYLIGHT
TZOFFSETFROM:-0500
TZOFFSETTO:-0400
TZNAME:EDT
DTSTART:20250309T070000
END:DAYLIGHT
BEGIN:STANDARD
TZOFFSETFROM:-0400
TZOFFSETTO:-0500
TZNAME:EST
DTSTART:20251102T060000
END:STANDARD
BEGIN:DAYLIGHT
TZOFFSETFROM:-0500
TZOFFSETTO:-0400
TZNAME:EDT
DTSTART:20260308T070000
END:DAYLIGHT
BEGIN:STANDARD
TZOFFSETFROM:-0400
TZOFFSETTO:-0500
TZNAME:EST
DTSTART:20261101T060000
END:STANDARD
END:VTIMEZONE
BEGIN:VEVENT
DTSTART;TZID=America/Toronto:20250918T143000
DTEND;TZID=America/Toronto:20250918T173000
DTSTAMP:20260419T131517
CREATED:20250717T220003Z
LAST-MODIFIED:20250915T024653Z
UID:17282-1758205800-1758216600@cupe3903.org
SUMMARY:September General Membership Meeting
DESCRIPTION:We are hosting a hybrid General Membership Meeting on September 18th from 2:30pm – 5:30pm! All members are encouraged to attend. \nTo register for the meeting\, click this link. Please register in advance! Make sure to register at the link even if you’re attending in-person so that we can better estimate numbers and you can receive voting ballots via email. \nThe in-person location is Accolade West 307. The agenda is available here. \nIn order to register\, you will need to provide your employee number\, which will be kept confidential. Your employee number is on your monthly pay stub. If you don’t know your employee number\, please click here for instructions. \nThis GMM will have elections and byelections! Consider putting your name forward to get involved with committees or as a delegate to the CUPE Ontario Convention. \nIf you require any of the following: ASL interpretation\, reimbursement for childcare/caregiver/attendant care\, or other requests for accommodation\, please contact our Staff Representative Equity\, Nadia Kanani\, at equity@cupe3903.org.
URL:https://cupe3903.org/event/september-gmm/
LOCATION:Accolade West 307\, 89 York Blvd\, North York\, Ontario\, M3J 1P3\, Canada
CATEGORIES:General Membership Meeting
END:VEVENT
END:VCALENDAR