BEGIN:VCALENDAR
VERSION:2.0
PRODID:-//CUPE 3903 - ECPv6.15.17//NONSGML v1.0//EN
CALSCALE:GREGORIAN
METHOD:PUBLISH
X-WR-CALNAME:CUPE 3903
X-ORIGINAL-URL:https://cupe3903.org
X-WR-CALDESC:Events for CUPE 3903
REFRESH-INTERVAL;VALUE=DURATION:PT1H
X-Robots-Tag:noindex
X-PUBLISHED-TTL:PT1H
BEGIN:VTIMEZONE
TZID:America/Toronto
BEGIN:DAYLIGHT
TZOFFSETFROM:-0500
TZOFFSETTO:-0400
TZNAME:EDT
DTSTART:20240310T070000
END:DAYLIGHT
BEGIN:STANDARD
TZOFFSETFROM:-0400
TZOFFSETTO:-0500
TZNAME:EST
DTSTART:20241103T060000
END:STANDARD
BEGIN:DAYLIGHT
TZOFFSETFROM:-0500
TZOFFSETTO:-0400
TZNAME:EDT
DTSTART:20250309T070000
END:DAYLIGHT
BEGIN:STANDARD
TZOFFSETFROM:-0400
TZOFFSETTO:-0500
TZNAME:EST
DTSTART:20251102T060000
END:STANDARD
BEGIN:DAYLIGHT
TZOFFSETFROM:-0500
TZOFFSETTO:-0400
TZNAME:EDT
DTSTART:20260308T070000
END:DAYLIGHT
BEGIN:STANDARD
TZOFFSETFROM:-0400
TZOFFSETTO:-0500
TZNAME:EST
DTSTART:20261101T060000
END:STANDARD
END:VTIMEZONE
BEGIN:VEVENT
DTSTART;TZID=America/Toronto:20250826T100000
DTEND;TZID=America/Toronto:20250826T120000
DTSTAMP:20260419T094559
CREATED:20250820T200953Z
LAST-MODIFIED:20250825T054024Z
UID:17334-1756202400-1756209600@cupe3903.org
SUMMARY:U5 Bargaining Prep!
DESCRIPTION:A preparatory session for the Unit 5 Bargaining Team.
URL:https://cupe3903.org/event/u5-prep-aug-26/
CATEGORIES:Bargaining,Unit 5
END:VEVENT
BEGIN:VEVENT
DTSTART;TZID=America/Toronto:20250826T140000
DTEND;TZID=America/Toronto:20250826T160000
DTSTAMP:20260419T094559
CREATED:20250804T032200Z
LAST-MODIFIED:20250811T041402Z
UID:17311-1756216800-1756224000@cupe3903.org
SUMMARY:August Stewards' Council
DESCRIPTION:Welcome back to Stewards’ Council! All CUPE 3903 members and especially stewards are encouraged to go to the August Stewards’ Council meeting on August 26th from 2-4PM\, hybrid online and in the CUPE 3903 Office (143 Atkinson)! \nYou can find a Zoom link here\, and click here to see the agenda. Planned topics of discussion include BBQ planning\, upcoming 50th Anniversary exhibitions\, orientation outreach\, and solidarity with other locals. \nQuestions? Ask a Lead Steward! \n\nPrateeksha Pathak\, Lead Steward Unit 1\, lsu1@cupe3903.org\nNeil Braganza\, Lead Steward Unit 2\, lsu2@cupe3903.org\nPromise Busulwa\, Lead Steward Unit 5\, lsu5@cupe3903.org
URL:https://cupe3903.org/event/august-sc/
LOCATION:CUPE 3903 Office (143 Atkinson)\, 96 The Pond Road\, North York\, ON\, M3J 2S5\, Canada
END:VEVENT
END:VCALENDAR