BEGIN:VCALENDAR
VERSION:2.0
PRODID:-//CUPE 3903 - ECPv6.15.17//NONSGML v1.0//EN
CALSCALE:GREGORIAN
METHOD:PUBLISH
X-ORIGINAL-URL:https://cupe3903.org
X-WR-CALDESC:Events for CUPE 3903
REFRESH-INTERVAL;VALUE=DURATION:PT1H
X-Robots-Tag:noindex
X-PUBLISHED-TTL:PT1H
BEGIN:VTIMEZONE
TZID:America/Toronto
BEGIN:DAYLIGHT
TZOFFSETFROM:-0500
TZOFFSETTO:-0400
TZNAME:EDT
DTSTART:20240310T070000
END:DAYLIGHT
BEGIN:STANDARD
TZOFFSETFROM:-0400
TZOFFSETTO:-0500
TZNAME:EST
DTSTART:20241103T060000
END:STANDARD
BEGIN:DAYLIGHT
TZOFFSETFROM:-0500
TZOFFSETTO:-0400
TZNAME:EDT
DTSTART:20250309T070000
END:DAYLIGHT
BEGIN:STANDARD
TZOFFSETFROM:-0400
TZOFFSETTO:-0500
TZNAME:EST
DTSTART:20251102T060000
END:STANDARD
BEGIN:DAYLIGHT
TZOFFSETFROM:-0500
TZOFFSETTO:-0400
TZNAME:EDT
DTSTART:20260308T070000
END:DAYLIGHT
BEGIN:STANDARD
TZOFFSETFROM:-0400
TZOFFSETTO:-0500
TZNAME:EST
DTSTART:20261101T060000
END:STANDARD
END:VTIMEZONE
BEGIN:VEVENT
DTSTART;TZID=America/Toronto:20250729T110000
DTEND;TZID=America/Toronto:20250729T150000
DTSTAMP:20260419T080606
CREATED:20250713T143759Z
LAST-MODIFIED:20250713T152050Z
UID:17268-1753786800-1753801200@cupe3903.org
SUMMARY:Being in Good Relationship Part 2: Empathic Listening & Setting Boundaries in the Academic Workplace
DESCRIPTION:Date: Tuesday July 29\, 2025\nTime: 11:00AM-3PM (with lunch break)\nLocation: in person\, Vari Hall 3005 (VH has an elevator. There’s an accessible all-gender washroom on the first floor.)\n\nThis workshop is open to all CUPE 3903 members.\nNote that you do not need to have attended Part 1 to participate\, though people who were in attendance will be prioritized.\n\nClick here to register!\n\nWorkshop Description:  This workshop will build on themes and ideas introduced in the first session and help deepen participants’ skills around reciprocal relationship building\, boundary setting\, active listening and holding space for sensitive disclosures and hard conversations. Through a contextually situated discussion within the academic institution\, we will continue to navigate different scenarios and situations where conflict may be difficult to parse through\, and collectively explore what a mentorship program for CUPE rank & file and executive committee members can look like.
URL:https://cupe3903.org/event/being-in-good-relationship-2/
LOCATION:Vari Hall 3005\, 198 York Blvd\, North York\, Ontario\, M3J 1P3\, Canada
CATEGORIES:Mentoring Program Fund
END:VEVENT
BEGIN:VEVENT
DTSTART;TZID=America/Toronto:20250729T110000
DTEND;TZID=America/Toronto:20250729T160000
DTSTAMP:20260419T080606
CREATED:20250726T151426Z
LAST-MODIFIED:20250726T151432Z
UID:17300-1753786800-1753804800@cupe3903.org
SUMMARY:Archiving Day!
DESCRIPTION:The CUPE 3903 Archive Committee is hosting a number of open archiving sessions throughout the Summer Term! On this archiving day\, members are invited to find the Committee at our workstation in the Atkinson basement (tables set-up along the hallway by room 011). \nThere you can have a look at what we’re working on\, ask us questions about the archive and learn about the local’s records\, and (should you wish) join us in organizing\, arranging\, describing\, preserving\, and presenting fifty years of CUPE 3903 history! \nNo advance registration or archival experience required! Just show-up during the listed hours\, and stay as long as you wish! \nOur next archiving session will be July 29th\, 2025\, 11AM-4PM. We hope to see you there! \nQuestions? Contact the Archive Committee at cupe3903archive@gmail.com
URL:https://cupe3903.org/event/archiving-july-29/
LOCATION:CUPE 3903 Archives\, Atkinson 011\, 96 The Pond Road\, North York\, Ontario\, M3J 2S5\, Canada
CATEGORIES:Archive Committee
END:VEVENT
BEGIN:VEVENT
DTSTART;TZID=America/Toronto:20250729T153000
DTEND;TZID=America/Toronto:20250729T170000
DTSTAMP:20260419T080606
CREATED:20250715T201549Z
LAST-MODIFIED:20250721T035015Z
UID:17277-1753803000-1753808400@cupe3903.org
SUMMARY:U5 Bargaining Prep!
DESCRIPTION:A preparatory session for the Unit 5 Bargaining Team.
URL:https://cupe3903.org/event/u5-prep-july-29/
LOCATION:Zoom
CATEGORIES:Bargaining,Unit 5
END:VEVENT
END:VCALENDAR