BEGIN:VCALENDAR
VERSION:2.0
PRODID:-//CUPE 3903 - ECPv6.15.17//NONSGML v1.0//EN
CALSCALE:GREGORIAN
METHOD:PUBLISH
X-WR-CALNAME:CUPE 3903
X-ORIGINAL-URL:https://cupe3903.org
X-WR-CALDESC:Events for CUPE 3903
REFRESH-INTERVAL;VALUE=DURATION:PT1H
X-Robots-Tag:noindex
X-PUBLISHED-TTL:PT1H
BEGIN:VTIMEZONE
TZID:America/Toronto
BEGIN:DAYLIGHT
TZOFFSETFROM:-0500
TZOFFSETTO:-0400
TZNAME:EDT
DTSTART:20240310T070000
END:DAYLIGHT
BEGIN:STANDARD
TZOFFSETFROM:-0400
TZOFFSETTO:-0500
TZNAME:EST
DTSTART:20241103T060000
END:STANDARD
BEGIN:DAYLIGHT
TZOFFSETFROM:-0500
TZOFFSETTO:-0400
TZNAME:EDT
DTSTART:20250309T070000
END:DAYLIGHT
BEGIN:STANDARD
TZOFFSETFROM:-0400
TZOFFSETTO:-0500
TZNAME:EST
DTSTART:20251102T060000
END:STANDARD
BEGIN:DAYLIGHT
TZOFFSETFROM:-0500
TZOFFSETTO:-0400
TZNAME:EDT
DTSTART:20260308T070000
END:DAYLIGHT
BEGIN:STANDARD
TZOFFSETFROM:-0400
TZOFFSETTO:-0500
TZNAME:EST
DTSTART:20261101T060000
END:STANDARD
END:VTIMEZONE
BEGIN:VEVENT
DTSTART;TZID=America/Toronto:20250710T110000
DTEND;TZID=America/Toronto:20250710T160000
DTSTAMP:20260419T095327
CREATED:20250705T161817Z
LAST-MODIFIED:20250707T012014Z
UID:17259-1752145200-1752163200@cupe3903.org
SUMMARY:Archiving Day!
DESCRIPTION:The CUPE 3903 Archive Committee is hosting a number of open archiving sessions throughout the Summer Term! On this archiving day\, members are invited to find the Committee in the CUPE 3903 Office (143 Atkinson). \nThere you can have a look at what we’re working on\, ask us questions about the archive and learn about the local’s records\, and (should you wish) join us in organizing\, arranging\, describing\, preserving\, and presenting fifty years of CUPE 3903 history! \nNo advance registration or archival experience required! Just show-up during the listed hours\, and stay as long as you wish! \nOur next archiving session will be July 10th\, 2025\, 11AM – 4PM. We hope to see you there! \nQuestions? Contact the Archive Committee at cupe3903archive@gmail.com
URL:https://cupe3903.org/event/archiving-july-10/
LOCATION:CUPE 3903 Office (143 Atkinson)\, 96 The Pond Road\, North York\, ON\, M3J 2S5\, Canada
CATEGORIES:Archive Committee
END:VEVENT
END:VCALENDAR