BEGIN:VCALENDAR
VERSION:2.0
PRODID:-//CUPE 3903 - ECPv6.15.17//NONSGML v1.0//EN
CALSCALE:GREGORIAN
METHOD:PUBLISH
X-WR-CALNAME:CUPE 3903
X-ORIGINAL-URL:https://cupe3903.org
X-WR-CALDESC:Events for CUPE 3903
REFRESH-INTERVAL;VALUE=DURATION:PT1H
X-Robots-Tag:noindex
X-PUBLISHED-TTL:PT1H
BEGIN:VTIMEZONE
TZID:America/Toronto
BEGIN:DAYLIGHT
TZOFFSETFROM:-0500
TZOFFSETTO:-0400
TZNAME:EDT
DTSTART:20240310T070000
END:DAYLIGHT
BEGIN:STANDARD
TZOFFSETFROM:-0400
TZOFFSETTO:-0500
TZNAME:EST
DTSTART:20241103T060000
END:STANDARD
BEGIN:DAYLIGHT
TZOFFSETFROM:-0500
TZOFFSETTO:-0400
TZNAME:EDT
DTSTART:20250309T070000
END:DAYLIGHT
BEGIN:STANDARD
TZOFFSETFROM:-0400
TZOFFSETTO:-0500
TZNAME:EST
DTSTART:20251102T060000
END:STANDARD
BEGIN:DAYLIGHT
TZOFFSETFROM:-0500
TZOFFSETTO:-0400
TZNAME:EDT
DTSTART:20260308T070000
END:DAYLIGHT
BEGIN:STANDARD
TZOFFSETFROM:-0400
TZOFFSETTO:-0500
TZNAME:EST
DTSTART:20261101T060000
END:STANDARD
END:VTIMEZONE
BEGIN:VEVENT
DTSTART;VALUE=DATE:20250528
DTEND;VALUE=DATE:20250601
DTSTAMP:20260422T103749
CREATED:20250513T221447Z
LAST-MODIFIED:20250513T221447Z
UID:17190-1748390400-1748735999@cupe3903.org
SUMMARY:CUPE Ontario Convention
DESCRIPTION:Elected delegates from CUPE 3903 will be attending the CUPE Ontario Convention during these dates\, held at the Toronto Sheraton Centre. \nAny questions about CUPE Conventions? Email Mackenzie Edwards (Communications Officer) and Joseph Tohill (Vice-President Unit 2) at communications@cupe3903.org and vpu2@cupe3903.org
URL:https://cupe3903.org/event/cupe-ontario-2025/
LOCATION:Toronto Sheraton Centre\, 123 Queen St W\, Toronto\, Ontario\, M5H 2M9\, Canada
END:VEVENT
END:VCALENDAR