BEGIN:VCALENDAR
VERSION:2.0
PRODID:-//CUPE 3903 - ECPv6.15.17//NONSGML v1.0//EN
CALSCALE:GREGORIAN
METHOD:PUBLISH
X-ORIGINAL-URL:https://cupe3903.org
X-WR-CALDESC:Events for CUPE 3903
REFRESH-INTERVAL;VALUE=DURATION:PT1H
X-Robots-Tag:noindex
X-PUBLISHED-TTL:PT1H
BEGIN:VTIMEZONE
TZID:America/Toronto
BEGIN:DAYLIGHT
TZOFFSETFROM:-0500
TZOFFSETTO:-0400
TZNAME:EDT
DTSTART:20240310T070000
END:DAYLIGHT
BEGIN:STANDARD
TZOFFSETFROM:-0400
TZOFFSETTO:-0500
TZNAME:EST
DTSTART:20241103T060000
END:STANDARD
BEGIN:DAYLIGHT
TZOFFSETFROM:-0500
TZOFFSETTO:-0400
TZNAME:EDT
DTSTART:20250309T070000
END:DAYLIGHT
BEGIN:STANDARD
TZOFFSETFROM:-0400
TZOFFSETTO:-0500
TZNAME:EST
DTSTART:20251102T060000
END:STANDARD
BEGIN:DAYLIGHT
TZOFFSETFROM:-0500
TZOFFSETTO:-0400
TZNAME:EDT
DTSTART:20260308T070000
END:DAYLIGHT
BEGIN:STANDARD
TZOFFSETFROM:-0400
TZOFFSETTO:-0500
TZNAME:EST
DTSTART:20261101T060000
END:STANDARD
END:VTIMEZONE
BEGIN:VEVENT
DTSTART;TZID=America/Toronto:20250128T110000
DTEND;TZID=America/Toronto:20250128T130000
DTSTAMP:20260424T045751
CREATED:20250117T213115Z
LAST-MODIFIED:20250117T213540Z
UID:16892-1738062000-1738069200@cupe3903.org
SUMMARY:January TFAC Meeting
DESCRIPTION:Make sure to attend the first Trans Feminist Action Caucus (TFAC) meeting of the year\, happening on January 28th from 11AM-1PM! It’s hybrid\, so you can join on Zoom at this link or at the CUPE 3903 office in 143 Atkinson. The agenda is forthcoming. \nTFAC includes all women\, trans\, genderqueer\, and gender variant members of CUPE 3903! If you’re part of those groups\, you’re a TFAC member\, and you’re welcome at this meeting. \nFor TFAC questions or accessibility requests\, contact Océane Nyela\, TFAC Co-Chair\, at tfac.cupe3903@gmail.com \n  \n \n 
URL:https://cupe3903.org/event/january-tfac/
LOCATION:CUPE 3903 Office (143 Atkinson)\, 96 The Pond Road\, North York\, ON\, M3J 2S5\, Canada
END:VEVENT
END:VCALENDAR