BEGIN:VCALENDAR
VERSION:2.0
PRODID:-//CUPE 3903 - ECPv6.15.17//NONSGML v1.0//EN
CALSCALE:GREGORIAN
METHOD:PUBLISH
X-ORIGINAL-URL:https://cupe3903.org
X-WR-CALDESC:Events for CUPE 3903
REFRESH-INTERVAL;VALUE=DURATION:PT1H
X-Robots-Tag:noindex
X-PUBLISHED-TTL:PT1H
BEGIN:VTIMEZONE
TZID:America/Toronto
BEGIN:DAYLIGHT
TZOFFSETFROM:-0500
TZOFFSETTO:-0400
TZNAME:EDT
DTSTART:20240310T070000
END:DAYLIGHT
BEGIN:STANDARD
TZOFFSETFROM:-0400
TZOFFSETTO:-0500
TZNAME:EST
DTSTART:20241103T060000
END:STANDARD
BEGIN:DAYLIGHT
TZOFFSETFROM:-0500
TZOFFSETTO:-0400
TZNAME:EDT
DTSTART:20250309T070000
END:DAYLIGHT
BEGIN:STANDARD
TZOFFSETFROM:-0400
TZOFFSETTO:-0500
TZNAME:EST
DTSTART:20251102T060000
END:STANDARD
BEGIN:DAYLIGHT
TZOFFSETFROM:-0500
TZOFFSETTO:-0400
TZNAME:EDT
DTSTART:20260308T070000
END:DAYLIGHT
BEGIN:STANDARD
TZOFFSETFROM:-0400
TZOFFSETTO:-0500
TZNAME:EST
DTSTART:20261101T060000
END:STANDARD
END:VTIMEZONE
BEGIN:VEVENT
DTSTART;TZID=America/Toronto:20250121T140000
DTEND;TZID=America/Toronto:20250121T153000
DTSTAMP:20260422T141745
CREATED:20250112T093510Z
LAST-MODIFIED:20250112T093725Z
UID:16878-1737468000-1737473400@cupe3903.org
SUMMARY:Townhall Discussion: Unit 2 Report on "Faculties of the Future" Restructuring at York
DESCRIPTION:Members of CUPE 3903 are warmly invited to this informal\, online discussion of “The ‘Faculties of the Future’ Proposal: A Critical Analysis and Alternative Vision“\, a report produced by Unit 2 stewards. We will start with short presentations from authors of the report followed by a response from a unit 1 steward. We will then have an open discussion.\n\nParticipants are encouraged to read the document before the meeting. We will be working with the PDF copy\, which can be downloaded here. Please make every effort to arrive on time so that we can make the most of our time together.\n\nSome questions to consider:\n\nHow would you be impacted by the changes criticized in the report?\nHow might CUPE’s analysis be elaborated\, deepened\, broadened or complicated?\nHow might we work toward building a “sanctuary university”?\n\n\nMembers from all units are welcome!\n\nREGISTRATION: Please register for the meeting by following this link. Registration is required.\nQUESTIONS: For any questions or accessibility requests\, please contact Neil\, Lead Steward Unit 2\, at cupe3903chiefstewardunit2@gmail.com
URL:https://cupe3903.org/event/townhall-u2-report/
LOCATION:Zoom
END:VEVENT
END:VCALENDAR