BEGIN:VCALENDAR
VERSION:2.0
PRODID:-//CUPE 3903 - ECPv6.15.17//NONSGML v1.0//EN
CALSCALE:GREGORIAN
METHOD:PUBLISH
X-WR-CALNAME:CUPE 3903
X-ORIGINAL-URL:https://cupe3903.org
X-WR-CALDESC:Events for CUPE 3903
REFRESH-INTERVAL;VALUE=DURATION:PT1H
X-Robots-Tag:noindex
X-PUBLISHED-TTL:PT1H
BEGIN:VTIMEZONE
TZID:America/Toronto
BEGIN:DAYLIGHT
TZOFFSETFROM:-0500
TZOFFSETTO:-0400
TZNAME:EDT
DTSTART:20230312T070000
END:DAYLIGHT
BEGIN:STANDARD
TZOFFSETFROM:-0400
TZOFFSETTO:-0500
TZNAME:EST
DTSTART:20231105T060000
END:STANDARD
BEGIN:DAYLIGHT
TZOFFSETFROM:-0500
TZOFFSETTO:-0400
TZNAME:EDT
DTSTART:20240310T070000
END:DAYLIGHT
BEGIN:STANDARD
TZOFFSETFROM:-0400
TZOFFSETTO:-0500
TZNAME:EST
DTSTART:20241103T060000
END:STANDARD
BEGIN:DAYLIGHT
TZOFFSETFROM:-0500
TZOFFSETTO:-0400
TZNAME:EDT
DTSTART:20250309T070000
END:DAYLIGHT
BEGIN:STANDARD
TZOFFSETFROM:-0400
TZOFFSETTO:-0500
TZNAME:EST
DTSTART:20251102T060000
END:STANDARD
END:VTIMEZONE
BEGIN:VEVENT
DTSTART;TZID=America/Toronto:20240924T130000
DTEND;TZID=America/Toronto:20240924T160000
DTSTAMP:20260419T075711
CREATED:20240905T193043Z
LAST-MODIFIED:20240923T094043Z
UID:16439-1727182800-1727193600@cupe3903.org
SUMMARY:Executive Committee Meeting
DESCRIPTION:The Executive Committee is holding a meeting. All members are welcome to attend. Only executive committee members can vote. This meeting will be hybrid\, with the in-person space being the board room of the CUPE 3903 office (Atkinson 143). \nPlease click here for the Zoom link for this meeting! \nThis exec meeting is scheduled on September 24th from 1PM-4PM. \nPlease see the tentative agenda here\, and make sure to read the enclosed minutes awaiting approval in advance. \nPlease contact Zoë Newman\, Chairperson\, at cupe3903chairperson@gmail.com for any accessibility requests.
URL:https://cupe3903.org/event/executive-committee-meeting-sept-24-2024/
LOCATION:CUPE 3903 Office (143 Atkinson)\, 96 The Pond Road\, North York\, ON\, M3J 2S5\, Canada
END:VEVENT
END:VCALENDAR